View In:
ArcGIS JavaScript
ArcGIS Online Map Viewer
ArcGIS Earth
Service Description: Imagery/NAIP_2021_NC_WebMerc84Aux
Name: Imagery/NAIP_2021_NC_WebMerc84Aux
Description:
Single Fused Map Cache: false
Extent:
XMin: -1.0514843259580562E7
YMin: 5940175.280410493
XMax: -1.0352265459580561E7
YMax: 6097471.880410492
Spatial Reference: 102100
(3857)
Initial Extent:
XMin: -1.0514843259580562E7
YMin: 5940175.280410493
XMax: -1.0352265459580561E7
YMax: 6097471.880410492
Spatial Reference: 102100
(3857)
Full Extent:
XMin: -1.0514843259580562E7
YMin: 5940175.280410493
XMax: -1.0352265459580561E7
YMax: 6097471.880410492
Spatial Reference: 102100
(3857)
Pixel Size X: 0.6000000000000028
Pixel Size Y: 0.5999999999999985
Band Count: 3
Pixel Type: U8
RasterFunction Infos: {"rasterFunctionInfos": [{
"name": "None",
"description": "",
"help": ""
}]}
Mensuration Capabilities: Basic
Has Histograms: true
Has Colormap: false
Has Multi Dimensions : false
Rendering Rule:
Min Scale: 0
Max Scale: 0
Copyright Text:
Service Data Type: esriImageServiceDataTypeRGB
Min Values: 0, 0, 0
Max Values: 255, 255, 255
Mean Values: 83.59817878794311, 92.1112193479935, 88.16856591429317
Standard Deviation Values: 29.878963718274235, 30.859936212147545, 28.9178755322044
Object ID Field:
Fields:
None
Default Mosaic Method: Center
Allowed Mosaic Methods:
SortField:
SortValue: null
Mosaic Operator: First
Default Compression Quality: 75
Default Resampling Method: Bilinear
Max Record Count: null
Max Image Height: 4100
Max Image Width: 15000
Max Download Image Count: null
Max Mosaic Image Count: null
Allow Raster Function: true
Allow Copy: true
Allow Analysis: true
Allow Compute TiePoints: false
Supports Statistics: false
Supports Advanced Queries: false
Use StandardizedQueries: true
Raster Type Infos:
Name: Raster Dataset
Description: Supports all ArcGIS Raster Datasets
Help:
Has Raster Attribute Table: false
Edit Fields Info: null
Ownership Based AccessControl For Rasters: null
Child Resources:
Info
Histograms
Statistics
Key Properties
Legend
Raster Function Infos
Supported Operations:
Export Image
Identify
Measure
Compute Histograms
Compute Statistics Histograms
Get Samples
Compute Class Statistics
Query Boundary
Compute Pixel Location
Compute Angles
Validate
Project